BEGIN:VCALENDAR
VERSION:2.0
PRODID:-//Athens Demo Site - ECPv6.15.17.1//NONSGML v1.0//EN
CALSCALE:GREGORIAN
METHOD:PUBLISH
X-ORIGINAL-URL:https://vip.sportsengine.com/athens
X-WR-CALDESC:Events for Athens Demo Site
REFRESH-INTERVAL;VALUE=DURATION:PT1H
X-Robots-Tag:noindex
X-PUBLISHED-TTL:PT1H
BEGIN:VTIMEZONE
TZID:UTC
BEGIN:STANDARD
TZOFFSETFROM:+0000
TZOFFSETTO:+0000
TZNAME:UTC
DTSTART:20290101T000000
END:STANDARD
END:VTIMEZONE
BEGIN:VEVENT
DTSTART;VALUE=DATE:20300214
DTEND;VALUE=DATE:20300215
DTSTAMP:20260425T193913
CREATED:20230510T223255Z
LAST-MODIFIED:20250812T152624Z
UID:10001671-1897257600-1897343999@vip.sportsengine.com
SUMMARY:Eagles Hockey Youth Registration Deadline
DESCRIPTION:Spark is a 9 hole\, social league organized to be casual and fun\, with a touch of friendly competition. \n 
URL:https://vip.sportsengine.com/athens/event/eagles-hockey-youth-registration-deadline/2030-02-14/
CATEGORIES:Test Category
END:VEVENT
BEGIN:VEVENT
DTSTART;VALUE=DATE:20300215
DTEND;VALUE=DATE:20300216
DTSTAMP:20260425T193913
CREATED:20230510T223255Z
LAST-MODIFIED:20250812T152624Z
UID:10001672-1897344000-1897430399@vip.sportsengine.com
SUMMARY:Eagles Hockey Youth Registration Deadline
DESCRIPTION:Spark is a 9 hole\, social league organized to be casual and fun\, with a touch of friendly competition. \n 
URL:https://vip.sportsengine.com/athens/event/eagles-hockey-youth-registration-deadline/2030-02-15/
CATEGORIES:Test Category
END:VEVENT
BEGIN:VEVENT
DTSTART;VALUE=DATE:20300216
DTEND;VALUE=DATE:20300217
DTSTAMP:20260425T193913
CREATED:20230510T223255Z
LAST-MODIFIED:20250812T152624Z
UID:10001673-1897430400-1897516799@vip.sportsengine.com
SUMMARY:Eagles Hockey Youth Registration Deadline
DESCRIPTION:Spark is a 9 hole\, social league organized to be casual and fun\, with a touch of friendly competition. \n 
URL:https://vip.sportsengine.com/athens/event/eagles-hockey-youth-registration-deadline/2030-02-16/
CATEGORIES:Test Category
END:VEVENT
BEGIN:VEVENT
DTSTART;VALUE=DATE:20300217
DTEND;VALUE=DATE:20300218
DTSTAMP:20260425T193913
CREATED:20230510T223255Z
LAST-MODIFIED:20250812T152624Z
UID:10001674-1897516800-1897603199@vip.sportsengine.com
SUMMARY:Eagles Hockey Youth Registration Deadline
DESCRIPTION:Spark is a 9 hole\, social league organized to be casual and fun\, with a touch of friendly competition. \n 
URL:https://vip.sportsengine.com/athens/event/eagles-hockey-youth-registration-deadline/2030-02-17/
CATEGORIES:Test Category
END:VEVENT
BEGIN:VEVENT
DTSTART;VALUE=DATE:20300218
DTEND;VALUE=DATE:20300219
DTSTAMP:20260425T193913
CREATED:20230510T223255Z
LAST-MODIFIED:20250812T152624Z
UID:10001675-1897603200-1897689599@vip.sportsengine.com
SUMMARY:Eagles Hockey Youth Registration Deadline
DESCRIPTION:Spark is a 9 hole\, social league organized to be casual and fun\, with a touch of friendly competition. \n 
URL:https://vip.sportsengine.com/athens/event/eagles-hockey-youth-registration-deadline/2030-02-18/
CATEGORIES:Test Category
END:VEVENT
BEGIN:VEVENT
DTSTART;VALUE=DATE:20300219
DTEND;VALUE=DATE:20300220
DTSTAMP:20260425T193913
CREATED:20230510T223255Z
LAST-MODIFIED:20250812T152624Z
UID:10001676-1897689600-1897775999@vip.sportsengine.com
SUMMARY:Eagles Hockey Youth Registration Deadline
DESCRIPTION:Spark is a 9 hole\, social league organized to be casual and fun\, with a touch of friendly competition. \n 
URL:https://vip.sportsengine.com/athens/event/eagles-hockey-youth-registration-deadline/2030-02-19/
CATEGORIES:Test Category
END:VEVENT
BEGIN:VEVENT
DTSTART;VALUE=DATE:20300220
DTEND;VALUE=DATE:20300221
DTSTAMP:20260425T193913
CREATED:20230510T223255Z
LAST-MODIFIED:20250812T152624Z
UID:10001677-1897776000-1897862399@vip.sportsengine.com
SUMMARY:Eagles Hockey Youth Registration Deadline
DESCRIPTION:Spark is a 9 hole\, social league organized to be casual and fun\, with a touch of friendly competition. \n 
URL:https://vip.sportsengine.com/athens/event/eagles-hockey-youth-registration-deadline/2030-02-20/
CATEGORIES:Test Category
END:VEVENT
BEGIN:VEVENT
DTSTART;VALUE=DATE:20300221
DTEND;VALUE=DATE:20300222
DTSTAMP:20260425T193913
CREATED:20230510T223255Z
LAST-MODIFIED:20250812T152624Z
UID:10001678-1897862400-1897948799@vip.sportsengine.com
SUMMARY:Eagles Hockey Youth Registration Deadline
DESCRIPTION:Spark is a 9 hole\, social league organized to be casual and fun\, with a touch of friendly competition. \n 
URL:https://vip.sportsengine.com/athens/event/eagles-hockey-youth-registration-deadline/2030-02-21/
CATEGORIES:Test Category
END:VEVENT
BEGIN:VEVENT
DTSTART;VALUE=DATE:20300222
DTEND;VALUE=DATE:20300223
DTSTAMP:20260425T193913
CREATED:20230510T223255Z
LAST-MODIFIED:20250812T152624Z
UID:10001679-1897948800-1898035199@vip.sportsengine.com
SUMMARY:Eagles Hockey Youth Registration Deadline
DESCRIPTION:Spark is a 9 hole\, social league organized to be casual and fun\, with a touch of friendly competition. \n 
URL:https://vip.sportsengine.com/athens/event/eagles-hockey-youth-registration-deadline/2030-02-22/
CATEGORIES:Test Category
END:VEVENT
BEGIN:VEVENT
DTSTART;VALUE=DATE:20300223
DTEND;VALUE=DATE:20300224
DTSTAMP:20260425T193913
CREATED:20230510T223255Z
LAST-MODIFIED:20250812T152624Z
UID:10001680-1898035200-1898121599@vip.sportsengine.com
SUMMARY:Eagles Hockey Youth Registration Deadline
DESCRIPTION:Spark is a 9 hole\, social league organized to be casual and fun\, with a touch of friendly competition. \n 
URL:https://vip.sportsengine.com/athens/event/eagles-hockey-youth-registration-deadline/2030-02-23/
CATEGORIES:Test Category
END:VEVENT
BEGIN:VEVENT
DTSTART;VALUE=DATE:20300224
DTEND;VALUE=DATE:20300225
DTSTAMP:20260425T193913
CREATED:20230510T223255Z
LAST-MODIFIED:20250812T152624Z
UID:10001681-1898121600-1898207999@vip.sportsengine.com
SUMMARY:Eagles Hockey Youth Registration Deadline
DESCRIPTION:Spark is a 9 hole\, social league organized to be casual and fun\, with a touch of friendly competition. \n 
URL:https://vip.sportsengine.com/athens/event/eagles-hockey-youth-registration-deadline/2030-02-24/
CATEGORIES:Test Category
END:VEVENT
BEGIN:VEVENT
DTSTART;VALUE=DATE:20300225
DTEND;VALUE=DATE:20300226
DTSTAMP:20260425T193913
CREATED:20230510T223255Z
LAST-MODIFIED:20250812T152624Z
UID:10001682-1898208000-1898294399@vip.sportsengine.com
SUMMARY:Eagles Hockey Youth Registration Deadline
DESCRIPTION:Spark is a 9 hole\, social league organized to be casual and fun\, with a touch of friendly competition. \n 
URL:https://vip.sportsengine.com/athens/event/eagles-hockey-youth-registration-deadline/2030-02-25/
CATEGORIES:Test Category
END:VEVENT
BEGIN:VEVENT
DTSTART;VALUE=DATE:20300226
DTEND;VALUE=DATE:20300227
DTSTAMP:20260425T193913
CREATED:20230510T223255Z
LAST-MODIFIED:20250812T152624Z
UID:10001683-1898294400-1898380799@vip.sportsengine.com
SUMMARY:Eagles Hockey Youth Registration Deadline
DESCRIPTION:Spark is a 9 hole\, social league organized to be casual and fun\, with a touch of friendly competition. \n 
URL:https://vip.sportsengine.com/athens/event/eagles-hockey-youth-registration-deadline/2030-02-26/
CATEGORIES:Test Category
END:VEVENT
BEGIN:VEVENT
DTSTART;VALUE=DATE:20300227
DTEND;VALUE=DATE:20300228
DTSTAMP:20260425T193913
CREATED:20230510T223255Z
LAST-MODIFIED:20250812T152624Z
UID:10001684-1898380800-1898467199@vip.sportsengine.com
SUMMARY:Eagles Hockey Youth Registration Deadline
DESCRIPTION:Spark is a 9 hole\, social league organized to be casual and fun\, with a touch of friendly competition. \n 
URL:https://vip.sportsengine.com/athens/event/eagles-hockey-youth-registration-deadline/2030-02-27/
CATEGORIES:Test Category
END:VEVENT
BEGIN:VEVENT
DTSTART;VALUE=DATE:20300228
DTEND;VALUE=DATE:20300301
DTSTAMP:20260425T193913
CREATED:20230510T223255Z
LAST-MODIFIED:20250812T152624Z
UID:10001685-1898467200-1898553599@vip.sportsengine.com
SUMMARY:Eagles Hockey Youth Registration Deadline
DESCRIPTION:Spark is a 9 hole\, social league organized to be casual and fun\, with a touch of friendly competition. \n 
URL:https://vip.sportsengine.com/athens/event/eagles-hockey-youth-registration-deadline/2030-02-28/
CATEGORIES:Test Category
END:VEVENT
BEGIN:VEVENT
DTSTART;VALUE=DATE:20300301
DTEND;VALUE=DATE:20300302
DTSTAMP:20260425T193913
CREATED:20230510T223255Z
LAST-MODIFIED:20250812T152624Z
UID:10001686-1898553600-1898639999@vip.sportsengine.com
SUMMARY:Eagles Hockey Youth Registration Deadline
DESCRIPTION:Spark is a 9 hole\, social league organized to be casual and fun\, with a touch of friendly competition. \n 
URL:https://vip.sportsengine.com/athens/event/eagles-hockey-youth-registration-deadline/2030-03-01/
CATEGORIES:Test Category
END:VEVENT
BEGIN:VEVENT
DTSTART;VALUE=DATE:20300302
DTEND;VALUE=DATE:20300303
DTSTAMP:20260425T193913
CREATED:20230510T223255Z
LAST-MODIFIED:20250812T152624Z
UID:10001687-1898640000-1898726399@vip.sportsengine.com
SUMMARY:Eagles Hockey Youth Registration Deadline
DESCRIPTION:Spark is a 9 hole\, social league organized to be casual and fun\, with a touch of friendly competition. \n 
URL:https://vip.sportsengine.com/athens/event/eagles-hockey-youth-registration-deadline/2030-03-02/
CATEGORIES:Test Category
END:VEVENT
BEGIN:VEVENT
DTSTART;VALUE=DATE:20300303
DTEND;VALUE=DATE:20300304
DTSTAMP:20260425T193913
CREATED:20230510T223255Z
LAST-MODIFIED:20250812T152624Z
UID:10001688-1898726400-1898812799@vip.sportsengine.com
SUMMARY:Eagles Hockey Youth Registration Deadline
DESCRIPTION:Spark is a 9 hole\, social league organized to be casual and fun\, with a touch of friendly competition. \n 
URL:https://vip.sportsengine.com/athens/event/eagles-hockey-youth-registration-deadline/2030-03-03/
CATEGORIES:Test Category
END:VEVENT
BEGIN:VEVENT
DTSTART;VALUE=DATE:20300304
DTEND;VALUE=DATE:20300305
DTSTAMP:20260425T193913
CREATED:20230510T223255Z
LAST-MODIFIED:20250812T152624Z
UID:10001689-1898812800-1898899199@vip.sportsengine.com
SUMMARY:Eagles Hockey Youth Registration Deadline
DESCRIPTION:Spark is a 9 hole\, social league organized to be casual and fun\, with a touch of friendly competition. \n 
URL:https://vip.sportsengine.com/athens/event/eagles-hockey-youth-registration-deadline/2030-03-04/
CATEGORIES:Test Category
END:VEVENT
BEGIN:VEVENT
DTSTART;VALUE=DATE:20300305
DTEND;VALUE=DATE:20300306
DTSTAMP:20260425T193913
CREATED:20230510T223255Z
LAST-MODIFIED:20250812T152624Z
UID:10001690-1898899200-1898985599@vip.sportsengine.com
SUMMARY:Eagles Hockey Youth Registration Deadline
DESCRIPTION:Spark is a 9 hole\, social league organized to be casual and fun\, with a touch of friendly competition. \n 
URL:https://vip.sportsengine.com/athens/event/eagles-hockey-youth-registration-deadline/2030-03-05/
CATEGORIES:Test Category
END:VEVENT
BEGIN:VEVENT
DTSTART;VALUE=DATE:20300306
DTEND;VALUE=DATE:20300307
DTSTAMP:20260425T193913
CREATED:20230510T223255Z
LAST-MODIFIED:20250812T152624Z
UID:10001691-1898985600-1899071999@vip.sportsengine.com
SUMMARY:Eagles Hockey Youth Registration Deadline
DESCRIPTION:Spark is a 9 hole\, social league organized to be casual and fun\, with a touch of friendly competition. \n 
URL:https://vip.sportsengine.com/athens/event/eagles-hockey-youth-registration-deadline/2030-03-06/
CATEGORIES:Test Category
END:VEVENT
BEGIN:VEVENT
DTSTART;VALUE=DATE:20300307
DTEND;VALUE=DATE:20300308
DTSTAMP:20260425T193913
CREATED:20230510T223255Z
LAST-MODIFIED:20250812T152624Z
UID:10001692-1899072000-1899158399@vip.sportsengine.com
SUMMARY:Eagles Hockey Youth Registration Deadline
DESCRIPTION:Spark is a 9 hole\, social league organized to be casual and fun\, with a touch of friendly competition. \n 
URL:https://vip.sportsengine.com/athens/event/eagles-hockey-youth-registration-deadline/2030-03-07/
CATEGORIES:Test Category
END:VEVENT
BEGIN:VEVENT
DTSTART;VALUE=DATE:20300308
DTEND;VALUE=DATE:20300309
DTSTAMP:20260425T193913
CREATED:20230510T223255Z
LAST-MODIFIED:20250812T152624Z
UID:10001693-1899158400-1899244799@vip.sportsengine.com
SUMMARY:Eagles Hockey Youth Registration Deadline
DESCRIPTION:Spark is a 9 hole\, social league organized to be casual and fun\, with a touch of friendly competition. \n 
URL:https://vip.sportsengine.com/athens/event/eagles-hockey-youth-registration-deadline/2030-03-08/
CATEGORIES:Test Category
END:VEVENT
BEGIN:VEVENT
DTSTART;VALUE=DATE:20300309
DTEND;VALUE=DATE:20300310
DTSTAMP:20260425T193914
CREATED:20230510T223255Z
LAST-MODIFIED:20250812T152624Z
UID:10001694-1899244800-1899331199@vip.sportsengine.com
SUMMARY:Eagles Hockey Youth Registration Deadline
DESCRIPTION:Spark is a 9 hole\, social league organized to be casual and fun\, with a touch of friendly competition. \n 
URL:https://vip.sportsengine.com/athens/event/eagles-hockey-youth-registration-deadline/2030-03-09/
CATEGORIES:Test Category
END:VEVENT
BEGIN:VEVENT
DTSTART;VALUE=DATE:20300310
DTEND;VALUE=DATE:20300311
DTSTAMP:20260425T193914
CREATED:20230510T223255Z
LAST-MODIFIED:20250812T152624Z
UID:10001695-1899331200-1899417599@vip.sportsengine.com
SUMMARY:Eagles Hockey Youth Registration Deadline
DESCRIPTION:Spark is a 9 hole\, social league organized to be casual and fun\, with a touch of friendly competition. \n 
URL:https://vip.sportsengine.com/athens/event/eagles-hockey-youth-registration-deadline/2030-03-10/
CATEGORIES:Test Category
END:VEVENT
BEGIN:VEVENT
DTSTART;VALUE=DATE:20300311
DTEND;VALUE=DATE:20300312
DTSTAMP:20260425T193914
CREATED:20230510T223255Z
LAST-MODIFIED:20250812T152624Z
UID:10001696-1899417600-1899503999@vip.sportsengine.com
SUMMARY:Eagles Hockey Youth Registration Deadline
DESCRIPTION:Spark is a 9 hole\, social league organized to be casual and fun\, with a touch of friendly competition. \n 
URL:https://vip.sportsengine.com/athens/event/eagles-hockey-youth-registration-deadline/2030-03-11/
CATEGORIES:Test Category
END:VEVENT
BEGIN:VEVENT
DTSTART;VALUE=DATE:20300312
DTEND;VALUE=DATE:20300313
DTSTAMP:20260425T193914
CREATED:20230510T223255Z
LAST-MODIFIED:20250812T152624Z
UID:10001697-1899504000-1899590399@vip.sportsengine.com
SUMMARY:Eagles Hockey Youth Registration Deadline
DESCRIPTION:Spark is a 9 hole\, social league organized to be casual and fun\, with a touch of friendly competition. \n 
URL:https://vip.sportsengine.com/athens/event/eagles-hockey-youth-registration-deadline/2030-03-12/
CATEGORIES:Test Category
END:VEVENT
BEGIN:VEVENT
DTSTART;VALUE=DATE:20300313
DTEND;VALUE=DATE:20300314
DTSTAMP:20260425T193914
CREATED:20230510T223255Z
LAST-MODIFIED:20250812T152624Z
UID:10001698-1899590400-1899676799@vip.sportsengine.com
SUMMARY:Eagles Hockey Youth Registration Deadline
DESCRIPTION:Spark is a 9 hole\, social league organized to be casual and fun\, with a touch of friendly competition. \n 
URL:https://vip.sportsengine.com/athens/event/eagles-hockey-youth-registration-deadline/2030-03-13/
CATEGORIES:Test Category
END:VEVENT
BEGIN:VEVENT
DTSTART;VALUE=DATE:20300314
DTEND;VALUE=DATE:20300315
DTSTAMP:20260425T193914
CREATED:20230510T223255Z
LAST-MODIFIED:20250812T152624Z
UID:10001699-1899676800-1899763199@vip.sportsengine.com
SUMMARY:Eagles Hockey Youth Registration Deadline
DESCRIPTION:Spark is a 9 hole\, social league organized to be casual and fun\, with a touch of friendly competition. \n 
URL:https://vip.sportsengine.com/athens/event/eagles-hockey-youth-registration-deadline/2030-03-14/
CATEGORIES:Test Category
END:VEVENT
BEGIN:VEVENT
DTSTART;VALUE=DATE:20300315
DTEND;VALUE=DATE:20300316
DTSTAMP:20260425T193914
CREATED:20230510T223255Z
LAST-MODIFIED:20250812T152624Z
UID:10001700-1899763200-1899849599@vip.sportsengine.com
SUMMARY:Eagles Hockey Youth Registration Deadline
DESCRIPTION:Spark is a 9 hole\, social league organized to be casual and fun\, with a touch of friendly competition. \n 
URL:https://vip.sportsengine.com/athens/event/eagles-hockey-youth-registration-deadline/2030-03-15/
CATEGORIES:Test Category
END:VEVENT
END:VCALENDAR