BEGIN:VCALENDAR
VERSION:2.0
PRODID:-//Athens Demo Site - ECPv6.15.17.1//NONSGML v1.0//EN
CALSCALE:GREGORIAN
METHOD:PUBLISH
X-ORIGINAL-URL:https://vip.sportsengine.com/athens
X-WR-CALDESC:Events for Athens Demo Site
REFRESH-INTERVAL;VALUE=DURATION:PT1H
X-Robots-Tag:noindex
X-PUBLISHED-TTL:PT1H
BEGIN:VTIMEZONE
TZID:UTC
BEGIN:STANDARD
TZOFFSETFROM:+0000
TZOFFSETTO:+0000
TZNAME:UTC
DTSTART:20280101T000000
END:STANDARD
END:VTIMEZONE
BEGIN:VEVENT
DTSTART;VALUE=DATE:20291013
DTEND;VALUE=DATE:20291014
DTSTAMP:20260421T022054
CREATED:20230510T223255Z
LAST-MODIFIED:20250812T152624Z
UID:10001547-1886544000-1886630399@vip.sportsengine.com
SUMMARY:Eagles Hockey Youth Registration Deadline
DESCRIPTION:Spark is a 9 hole\, social league organized to be casual and fun\, with a touch of friendly competition. \n 
URL:https://vip.sportsengine.com/athens/event/eagles-hockey-youth-registration-deadline/2029-10-13/
CATEGORIES:Test Category
END:VEVENT
BEGIN:VEVENT
DTSTART;VALUE=DATE:20291014
DTEND;VALUE=DATE:20291015
DTSTAMP:20260421T022054
CREATED:20230510T223255Z
LAST-MODIFIED:20250812T152624Z
UID:10001548-1886630400-1886716799@vip.sportsengine.com
SUMMARY:Eagles Hockey Youth Registration Deadline
DESCRIPTION:Spark is a 9 hole\, social league organized to be casual and fun\, with a touch of friendly competition. \n 
URL:https://vip.sportsengine.com/athens/event/eagles-hockey-youth-registration-deadline/2029-10-14/
CATEGORIES:Test Category
END:VEVENT
BEGIN:VEVENT
DTSTART;VALUE=DATE:20291015
DTEND;VALUE=DATE:20291016
DTSTAMP:20260421T022054
CREATED:20230510T223255Z
LAST-MODIFIED:20250812T152624Z
UID:10001549-1886716800-1886803199@vip.sportsengine.com
SUMMARY:Eagles Hockey Youth Registration Deadline
DESCRIPTION:Spark is a 9 hole\, social league organized to be casual and fun\, with a touch of friendly competition. \n 
URL:https://vip.sportsengine.com/athens/event/eagles-hockey-youth-registration-deadline/2029-10-15/
CATEGORIES:Test Category
END:VEVENT
BEGIN:VEVENT
DTSTART;VALUE=DATE:20291016
DTEND;VALUE=DATE:20291017
DTSTAMP:20260421T022054
CREATED:20230510T223255Z
LAST-MODIFIED:20250812T152624Z
UID:10001550-1886803200-1886889599@vip.sportsengine.com
SUMMARY:Eagles Hockey Youth Registration Deadline
DESCRIPTION:Spark is a 9 hole\, social league organized to be casual and fun\, with a touch of friendly competition. \n 
URL:https://vip.sportsengine.com/athens/event/eagles-hockey-youth-registration-deadline/2029-10-16/
CATEGORIES:Test Category
END:VEVENT
BEGIN:VEVENT
DTSTART;VALUE=DATE:20291017
DTEND;VALUE=DATE:20291018
DTSTAMP:20260421T022054
CREATED:20230510T223255Z
LAST-MODIFIED:20250812T152624Z
UID:10001551-1886889600-1886975999@vip.sportsengine.com
SUMMARY:Eagles Hockey Youth Registration Deadline
DESCRIPTION:Spark is a 9 hole\, social league organized to be casual and fun\, with a touch of friendly competition. \n 
URL:https://vip.sportsengine.com/athens/event/eagles-hockey-youth-registration-deadline/2029-10-17/
CATEGORIES:Test Category
END:VEVENT
BEGIN:VEVENT
DTSTART;VALUE=DATE:20291018
DTEND;VALUE=DATE:20291019
DTSTAMP:20260421T022054
CREATED:20230510T223255Z
LAST-MODIFIED:20250812T152624Z
UID:10001552-1886976000-1887062399@vip.sportsengine.com
SUMMARY:Eagles Hockey Youth Registration Deadline
DESCRIPTION:Spark is a 9 hole\, social league organized to be casual and fun\, with a touch of friendly competition. \n 
URL:https://vip.sportsengine.com/athens/event/eagles-hockey-youth-registration-deadline/2029-10-18/
CATEGORIES:Test Category
END:VEVENT
BEGIN:VEVENT
DTSTART;VALUE=DATE:20291019
DTEND;VALUE=DATE:20291020
DTSTAMP:20260421T022054
CREATED:20230510T223255Z
LAST-MODIFIED:20250812T152624Z
UID:10001553-1887062400-1887148799@vip.sportsengine.com
SUMMARY:Eagles Hockey Youth Registration Deadline
DESCRIPTION:Spark is a 9 hole\, social league organized to be casual and fun\, with a touch of friendly competition. \n 
URL:https://vip.sportsengine.com/athens/event/eagles-hockey-youth-registration-deadline/2029-10-19/
CATEGORIES:Test Category
END:VEVENT
BEGIN:VEVENT
DTSTART;VALUE=DATE:20291020
DTEND;VALUE=DATE:20291021
DTSTAMP:20260421T022054
CREATED:20230510T223255Z
LAST-MODIFIED:20250812T152624Z
UID:10001554-1887148800-1887235199@vip.sportsengine.com
SUMMARY:Eagles Hockey Youth Registration Deadline
DESCRIPTION:Spark is a 9 hole\, social league organized to be casual and fun\, with a touch of friendly competition. \n 
URL:https://vip.sportsengine.com/athens/event/eagles-hockey-youth-registration-deadline/2029-10-20/
CATEGORIES:Test Category
END:VEVENT
BEGIN:VEVENT
DTSTART;VALUE=DATE:20291021
DTEND;VALUE=DATE:20291022
DTSTAMP:20260421T022054
CREATED:20230510T223255Z
LAST-MODIFIED:20250812T152624Z
UID:10001555-1887235200-1887321599@vip.sportsengine.com
SUMMARY:Eagles Hockey Youth Registration Deadline
DESCRIPTION:Spark is a 9 hole\, social league organized to be casual and fun\, with a touch of friendly competition. \n 
URL:https://vip.sportsengine.com/athens/event/eagles-hockey-youth-registration-deadline/2029-10-21/
CATEGORIES:Test Category
END:VEVENT
BEGIN:VEVENT
DTSTART;VALUE=DATE:20291022
DTEND;VALUE=DATE:20291023
DTSTAMP:20260421T022054
CREATED:20230510T223255Z
LAST-MODIFIED:20250812T152624Z
UID:10001556-1887321600-1887407999@vip.sportsengine.com
SUMMARY:Eagles Hockey Youth Registration Deadline
DESCRIPTION:Spark is a 9 hole\, social league organized to be casual and fun\, with a touch of friendly competition. \n 
URL:https://vip.sportsengine.com/athens/event/eagles-hockey-youth-registration-deadline/2029-10-22/
CATEGORIES:Test Category
END:VEVENT
BEGIN:VEVENT
DTSTART;VALUE=DATE:20291023
DTEND;VALUE=DATE:20291024
DTSTAMP:20260421T022054
CREATED:20230510T223255Z
LAST-MODIFIED:20250812T152624Z
UID:10001557-1887408000-1887494399@vip.sportsengine.com
SUMMARY:Eagles Hockey Youth Registration Deadline
DESCRIPTION:Spark is a 9 hole\, social league organized to be casual and fun\, with a touch of friendly competition. \n 
URL:https://vip.sportsengine.com/athens/event/eagles-hockey-youth-registration-deadline/2029-10-23/
CATEGORIES:Test Category
END:VEVENT
BEGIN:VEVENT
DTSTART;VALUE=DATE:20291024
DTEND;VALUE=DATE:20291025
DTSTAMP:20260421T022054
CREATED:20230510T223255Z
LAST-MODIFIED:20250812T152624Z
UID:10001558-1887494400-1887580799@vip.sportsengine.com
SUMMARY:Eagles Hockey Youth Registration Deadline
DESCRIPTION:Spark is a 9 hole\, social league organized to be casual and fun\, with a touch of friendly competition. \n 
URL:https://vip.sportsengine.com/athens/event/eagles-hockey-youth-registration-deadline/2029-10-24/
CATEGORIES:Test Category
END:VEVENT
BEGIN:VEVENT
DTSTART;VALUE=DATE:20291025
DTEND;VALUE=DATE:20291026
DTSTAMP:20260421T022054
CREATED:20230510T223255Z
LAST-MODIFIED:20250812T152624Z
UID:10001559-1887580800-1887667199@vip.sportsengine.com
SUMMARY:Eagles Hockey Youth Registration Deadline
DESCRIPTION:Spark is a 9 hole\, social league organized to be casual and fun\, with a touch of friendly competition. \n 
URL:https://vip.sportsengine.com/athens/event/eagles-hockey-youth-registration-deadline/2029-10-25/
CATEGORIES:Test Category
END:VEVENT
BEGIN:VEVENT
DTSTART;VALUE=DATE:20291026
DTEND;VALUE=DATE:20291027
DTSTAMP:20260421T022054
CREATED:20230510T223255Z
LAST-MODIFIED:20250812T152624Z
UID:10001560-1887667200-1887753599@vip.sportsengine.com
SUMMARY:Eagles Hockey Youth Registration Deadline
DESCRIPTION:Spark is a 9 hole\, social league organized to be casual and fun\, with a touch of friendly competition. \n 
URL:https://vip.sportsengine.com/athens/event/eagles-hockey-youth-registration-deadline/2029-10-26/
CATEGORIES:Test Category
END:VEVENT
BEGIN:VEVENT
DTSTART;VALUE=DATE:20291027
DTEND;VALUE=DATE:20291028
DTSTAMP:20260421T022054
CREATED:20230510T223255Z
LAST-MODIFIED:20250812T152624Z
UID:10001561-1887753600-1887839999@vip.sportsengine.com
SUMMARY:Eagles Hockey Youth Registration Deadline
DESCRIPTION:Spark is a 9 hole\, social league organized to be casual and fun\, with a touch of friendly competition. \n 
URL:https://vip.sportsengine.com/athens/event/eagles-hockey-youth-registration-deadline/2029-10-27/
CATEGORIES:Test Category
END:VEVENT
BEGIN:VEVENT
DTSTART;VALUE=DATE:20291028
DTEND;VALUE=DATE:20291029
DTSTAMP:20260421T022054
CREATED:20230510T223255Z
LAST-MODIFIED:20250812T152624Z
UID:10001562-1887840000-1887926399@vip.sportsengine.com
SUMMARY:Eagles Hockey Youth Registration Deadline
DESCRIPTION:Spark is a 9 hole\, social league organized to be casual and fun\, with a touch of friendly competition. \n 
URL:https://vip.sportsengine.com/athens/event/eagles-hockey-youth-registration-deadline/2029-10-28/
CATEGORIES:Test Category
END:VEVENT
BEGIN:VEVENT
DTSTART;VALUE=DATE:20291029
DTEND;VALUE=DATE:20291030
DTSTAMP:20260421T022054
CREATED:20230510T223255Z
LAST-MODIFIED:20250812T152624Z
UID:10001563-1887926400-1888012799@vip.sportsengine.com
SUMMARY:Eagles Hockey Youth Registration Deadline
DESCRIPTION:Spark is a 9 hole\, social league organized to be casual and fun\, with a touch of friendly competition. \n 
URL:https://vip.sportsengine.com/athens/event/eagles-hockey-youth-registration-deadline/2029-10-29/
CATEGORIES:Test Category
END:VEVENT
BEGIN:VEVENT
DTSTART;VALUE=DATE:20291030
DTEND;VALUE=DATE:20291031
DTSTAMP:20260421T022055
CREATED:20230510T223255Z
LAST-MODIFIED:20250812T152624Z
UID:10001564-1888012800-1888099199@vip.sportsengine.com
SUMMARY:Eagles Hockey Youth Registration Deadline
DESCRIPTION:Spark is a 9 hole\, social league organized to be casual and fun\, with a touch of friendly competition. \n 
URL:https://vip.sportsengine.com/athens/event/eagles-hockey-youth-registration-deadline/2029-10-30/
CATEGORIES:Test Category
END:VEVENT
BEGIN:VEVENT
DTSTART;VALUE=DATE:20291031
DTEND;VALUE=DATE:20291101
DTSTAMP:20260421T022055
CREATED:20230510T223255Z
LAST-MODIFIED:20250812T152624Z
UID:10001565-1888099200-1888185599@vip.sportsengine.com
SUMMARY:Eagles Hockey Youth Registration Deadline
DESCRIPTION:Spark is a 9 hole\, social league organized to be casual and fun\, with a touch of friendly competition. \n 
URL:https://vip.sportsengine.com/athens/event/eagles-hockey-youth-registration-deadline/2029-10-31/
CATEGORIES:Test Category
END:VEVENT
BEGIN:VEVENT
DTSTART;VALUE=DATE:20291101
DTEND;VALUE=DATE:20291102
DTSTAMP:20260421T022055
CREATED:20230510T223255Z
LAST-MODIFIED:20250812T152624Z
UID:10001566-1888185600-1888271999@vip.sportsengine.com
SUMMARY:Eagles Hockey Youth Registration Deadline
DESCRIPTION:Spark is a 9 hole\, social league organized to be casual and fun\, with a touch of friendly competition. \n 
URL:https://vip.sportsengine.com/athens/event/eagles-hockey-youth-registration-deadline/2029-11-01/
CATEGORIES:Test Category
END:VEVENT
BEGIN:VEVENT
DTSTART;VALUE=DATE:20291102
DTEND;VALUE=DATE:20291103
DTSTAMP:20260421T022055
CREATED:20230510T223255Z
LAST-MODIFIED:20250812T152624Z
UID:10001567-1888272000-1888358399@vip.sportsengine.com
SUMMARY:Eagles Hockey Youth Registration Deadline
DESCRIPTION:Spark is a 9 hole\, social league organized to be casual and fun\, with a touch of friendly competition. \n 
URL:https://vip.sportsengine.com/athens/event/eagles-hockey-youth-registration-deadline/2029-11-02/
CATEGORIES:Test Category
END:VEVENT
BEGIN:VEVENT
DTSTART;VALUE=DATE:20291103
DTEND;VALUE=DATE:20291104
DTSTAMP:20260421T022055
CREATED:20230510T223255Z
LAST-MODIFIED:20250812T152624Z
UID:10001568-1888358400-1888444799@vip.sportsengine.com
SUMMARY:Eagles Hockey Youth Registration Deadline
DESCRIPTION:Spark is a 9 hole\, social league organized to be casual and fun\, with a touch of friendly competition. \n 
URL:https://vip.sportsengine.com/athens/event/eagles-hockey-youth-registration-deadline/2029-11-03/
CATEGORIES:Test Category
END:VEVENT
BEGIN:VEVENT
DTSTART;VALUE=DATE:20291104
DTEND;VALUE=DATE:20291105
DTSTAMP:20260421T022055
CREATED:20230510T223255Z
LAST-MODIFIED:20250812T152624Z
UID:10001569-1888444800-1888531199@vip.sportsengine.com
SUMMARY:Eagles Hockey Youth Registration Deadline
DESCRIPTION:Spark is a 9 hole\, social league organized to be casual and fun\, with a touch of friendly competition. \n 
URL:https://vip.sportsengine.com/athens/event/eagles-hockey-youth-registration-deadline/2029-11-04/
CATEGORIES:Test Category
END:VEVENT
BEGIN:VEVENT
DTSTART;VALUE=DATE:20291105
DTEND;VALUE=DATE:20291106
DTSTAMP:20260421T022055
CREATED:20230510T223255Z
LAST-MODIFIED:20250812T152624Z
UID:10001570-1888531200-1888617599@vip.sportsengine.com
SUMMARY:Eagles Hockey Youth Registration Deadline
DESCRIPTION:Spark is a 9 hole\, social league organized to be casual and fun\, with a touch of friendly competition. \n 
URL:https://vip.sportsengine.com/athens/event/eagles-hockey-youth-registration-deadline/2029-11-05/
CATEGORIES:Test Category
END:VEVENT
BEGIN:VEVENT
DTSTART;VALUE=DATE:20291106
DTEND;VALUE=DATE:20291107
DTSTAMP:20260421T022055
CREATED:20230510T223255Z
LAST-MODIFIED:20250812T152624Z
UID:10001571-1888617600-1888703999@vip.sportsengine.com
SUMMARY:Eagles Hockey Youth Registration Deadline
DESCRIPTION:Spark is a 9 hole\, social league organized to be casual and fun\, with a touch of friendly competition. \n 
URL:https://vip.sportsengine.com/athens/event/eagles-hockey-youth-registration-deadline/2029-11-06/
CATEGORIES:Test Category
END:VEVENT
BEGIN:VEVENT
DTSTART;VALUE=DATE:20291107
DTEND;VALUE=DATE:20291108
DTSTAMP:20260421T022055
CREATED:20230510T223255Z
LAST-MODIFIED:20250812T152624Z
UID:10001572-1888704000-1888790399@vip.sportsengine.com
SUMMARY:Eagles Hockey Youth Registration Deadline
DESCRIPTION:Spark is a 9 hole\, social league organized to be casual and fun\, with a touch of friendly competition. \n 
URL:https://vip.sportsengine.com/athens/event/eagles-hockey-youth-registration-deadline/2029-11-07/
CATEGORIES:Test Category
END:VEVENT
BEGIN:VEVENT
DTSTART;VALUE=DATE:20291108
DTEND;VALUE=DATE:20291109
DTSTAMP:20260421T022055
CREATED:20230510T223255Z
LAST-MODIFIED:20250812T152624Z
UID:10001573-1888790400-1888876799@vip.sportsengine.com
SUMMARY:Eagles Hockey Youth Registration Deadline
DESCRIPTION:Spark is a 9 hole\, social league organized to be casual and fun\, with a touch of friendly competition. \n 
URL:https://vip.sportsengine.com/athens/event/eagles-hockey-youth-registration-deadline/2029-11-08/
CATEGORIES:Test Category
END:VEVENT
BEGIN:VEVENT
DTSTART;VALUE=DATE:20291109
DTEND;VALUE=DATE:20291110
DTSTAMP:20260421T022055
CREATED:20230510T223255Z
LAST-MODIFIED:20250812T152624Z
UID:10001574-1888876800-1888963199@vip.sportsengine.com
SUMMARY:Eagles Hockey Youth Registration Deadline
DESCRIPTION:Spark is a 9 hole\, social league organized to be casual and fun\, with a touch of friendly competition. \n 
URL:https://vip.sportsengine.com/athens/event/eagles-hockey-youth-registration-deadline/2029-11-09/
CATEGORIES:Test Category
END:VEVENT
BEGIN:VEVENT
DTSTART;VALUE=DATE:20291110
DTEND;VALUE=DATE:20291111
DTSTAMP:20260421T022055
CREATED:20230510T223255Z
LAST-MODIFIED:20250812T152624Z
UID:10001575-1888963200-1889049599@vip.sportsengine.com
SUMMARY:Eagles Hockey Youth Registration Deadline
DESCRIPTION:Spark is a 9 hole\, social league organized to be casual and fun\, with a touch of friendly competition. \n 
URL:https://vip.sportsengine.com/athens/event/eagles-hockey-youth-registration-deadline/2029-11-10/
CATEGORIES:Test Category
END:VEVENT
BEGIN:VEVENT
DTSTART;VALUE=DATE:20291111
DTEND;VALUE=DATE:20291112
DTSTAMP:20260421T022055
CREATED:20230510T223255Z
LAST-MODIFIED:20250812T152624Z
UID:10001576-1889049600-1889135999@vip.sportsengine.com
SUMMARY:Eagles Hockey Youth Registration Deadline
DESCRIPTION:Spark is a 9 hole\, social league organized to be casual and fun\, with a touch of friendly competition. \n 
URL:https://vip.sportsengine.com/athens/event/eagles-hockey-youth-registration-deadline/2029-11-11/
CATEGORIES:Test Category
END:VEVENT
END:VCALENDAR