BEGIN:VCALENDAR
VERSION:2.0
PRODID:-//Athens Demo Site - ECPv6.15.17.1//NONSGML v1.0//EN
CALSCALE:GREGORIAN
METHOD:PUBLISH
X-WR-CALNAME:Athens Demo Site
X-ORIGINAL-URL:https://vip.sportsengine.com/athens
X-WR-CALDESC:Events for Athens Demo Site
REFRESH-INTERVAL;VALUE=DURATION:PT1H
X-Robots-Tag:noindex
X-PUBLISHED-TTL:PT1H
BEGIN:VTIMEZONE
TZID:UTC
BEGIN:STANDARD
TZOFFSETFROM:+0000
TZOFFSETTO:+0000
TZNAME:UTC
DTSTART:20280101T000000
END:STANDARD
END:VTIMEZONE
BEGIN:VEVENT
DTSTART;VALUE=DATE:20291118
DTEND;VALUE=DATE:20291119
DTSTAMP:20260421T093101
CREATED:20230510T223255Z
LAST-MODIFIED:20250812T152624Z
UID:10001583-1889654400-1889740799@vip.sportsengine.com
SUMMARY:Eagles Hockey Youth Registration Deadline
DESCRIPTION:Spark is a 9 hole\, social league organized to be casual and fun\, with a touch of friendly competition. \n 
URL:https://vip.sportsengine.com/athens/event/eagles-hockey-youth-registration-deadline/2029-11-18/
CATEGORIES:Test Category
END:VEVENT
BEGIN:VEVENT
DTSTART;VALUE=DATE:20291119
DTEND;VALUE=DATE:20291120
DTSTAMP:20260421T093101
CREATED:20230510T223255Z
LAST-MODIFIED:20250812T152624Z
UID:10001584-1889740800-1889827199@vip.sportsengine.com
SUMMARY:Eagles Hockey Youth Registration Deadline
DESCRIPTION:Spark is a 9 hole\, social league organized to be casual and fun\, with a touch of friendly competition. \n 
URL:https://vip.sportsengine.com/athens/event/eagles-hockey-youth-registration-deadline/2029-11-19/
CATEGORIES:Test Category
END:VEVENT
BEGIN:VEVENT
DTSTART;VALUE=DATE:20291120
DTEND;VALUE=DATE:20291121
DTSTAMP:20260421T093101
CREATED:20230510T223255Z
LAST-MODIFIED:20250812T152624Z
UID:10001585-1889827200-1889913599@vip.sportsengine.com
SUMMARY:Eagles Hockey Youth Registration Deadline
DESCRIPTION:Spark is a 9 hole\, social league organized to be casual and fun\, with a touch of friendly competition. \n 
URL:https://vip.sportsengine.com/athens/event/eagles-hockey-youth-registration-deadline/2029-11-20/
CATEGORIES:Test Category
END:VEVENT
BEGIN:VEVENT
DTSTART;VALUE=DATE:20291121
DTEND;VALUE=DATE:20291122
DTSTAMP:20260421T093101
CREATED:20230510T223255Z
LAST-MODIFIED:20250812T152624Z
UID:10001586-1889913600-1889999999@vip.sportsengine.com
SUMMARY:Eagles Hockey Youth Registration Deadline
DESCRIPTION:Spark is a 9 hole\, social league organized to be casual and fun\, with a touch of friendly competition. \n 
URL:https://vip.sportsengine.com/athens/event/eagles-hockey-youth-registration-deadline/2029-11-21/
CATEGORIES:Test Category
END:VEVENT
BEGIN:VEVENT
DTSTART;VALUE=DATE:20291122
DTEND;VALUE=DATE:20291123
DTSTAMP:20260421T093101
CREATED:20230510T223255Z
LAST-MODIFIED:20250812T152624Z
UID:10001587-1890000000-1890086399@vip.sportsengine.com
SUMMARY:Eagles Hockey Youth Registration Deadline
DESCRIPTION:Spark is a 9 hole\, social league organized to be casual and fun\, with a touch of friendly competition. \n 
URL:https://vip.sportsengine.com/athens/event/eagles-hockey-youth-registration-deadline/2029-11-22/
CATEGORIES:Test Category
END:VEVENT
BEGIN:VEVENT
DTSTART;VALUE=DATE:20291123
DTEND;VALUE=DATE:20291124
DTSTAMP:20260421T093101
CREATED:20230510T223255Z
LAST-MODIFIED:20250812T152624Z
UID:10001588-1890086400-1890172799@vip.sportsengine.com
SUMMARY:Eagles Hockey Youth Registration Deadline
DESCRIPTION:Spark is a 9 hole\, social league organized to be casual and fun\, with a touch of friendly competition. \n 
URL:https://vip.sportsengine.com/athens/event/eagles-hockey-youth-registration-deadline/2029-11-23/
CATEGORIES:Test Category
END:VEVENT
BEGIN:VEVENT
DTSTART;VALUE=DATE:20291124
DTEND;VALUE=DATE:20291125
DTSTAMP:20260421T093101
CREATED:20230510T223255Z
LAST-MODIFIED:20250812T152624Z
UID:10001589-1890172800-1890259199@vip.sportsengine.com
SUMMARY:Eagles Hockey Youth Registration Deadline
DESCRIPTION:Spark is a 9 hole\, social league organized to be casual and fun\, with a touch of friendly competition. \n 
URL:https://vip.sportsengine.com/athens/event/eagles-hockey-youth-registration-deadline/2029-11-24/
CATEGORIES:Test Category
END:VEVENT
BEGIN:VEVENT
DTSTART;VALUE=DATE:20291125
DTEND;VALUE=DATE:20291126
DTSTAMP:20260421T093101
CREATED:20230510T223255Z
LAST-MODIFIED:20250812T152624Z
UID:10001590-1890259200-1890345599@vip.sportsengine.com
SUMMARY:Eagles Hockey Youth Registration Deadline
DESCRIPTION:Spark is a 9 hole\, social league organized to be casual and fun\, with a touch of friendly competition. \n 
URL:https://vip.sportsengine.com/athens/event/eagles-hockey-youth-registration-deadline/2029-11-25/
CATEGORIES:Test Category
END:VEVENT
BEGIN:VEVENT
DTSTART;VALUE=DATE:20291126
DTEND;VALUE=DATE:20291127
DTSTAMP:20260421T093101
CREATED:20230510T223255Z
LAST-MODIFIED:20250812T152624Z
UID:10001591-1890345600-1890431999@vip.sportsengine.com
SUMMARY:Eagles Hockey Youth Registration Deadline
DESCRIPTION:Spark is a 9 hole\, social league organized to be casual and fun\, with a touch of friendly competition. \n 
URL:https://vip.sportsengine.com/athens/event/eagles-hockey-youth-registration-deadline/2029-11-26/
CATEGORIES:Test Category
END:VEVENT
BEGIN:VEVENT
DTSTART;VALUE=DATE:20291127
DTEND;VALUE=DATE:20291128
DTSTAMP:20260421T093101
CREATED:20230510T223255Z
LAST-MODIFIED:20250812T152624Z
UID:10001592-1890432000-1890518399@vip.sportsengine.com
SUMMARY:Eagles Hockey Youth Registration Deadline
DESCRIPTION:Spark is a 9 hole\, social league organized to be casual and fun\, with a touch of friendly competition. \n 
URL:https://vip.sportsengine.com/athens/event/eagles-hockey-youth-registration-deadline/2029-11-27/
CATEGORIES:Test Category
END:VEVENT
BEGIN:VEVENT
DTSTART;VALUE=DATE:20291128
DTEND;VALUE=DATE:20291129
DTSTAMP:20260421T093101
CREATED:20230510T223255Z
LAST-MODIFIED:20250812T152624Z
UID:10001593-1890518400-1890604799@vip.sportsengine.com
SUMMARY:Eagles Hockey Youth Registration Deadline
DESCRIPTION:Spark is a 9 hole\, social league organized to be casual and fun\, with a touch of friendly competition. \n 
URL:https://vip.sportsengine.com/athens/event/eagles-hockey-youth-registration-deadline/2029-11-28/
CATEGORIES:Test Category
END:VEVENT
BEGIN:VEVENT
DTSTART;VALUE=DATE:20291129
DTEND;VALUE=DATE:20291130
DTSTAMP:20260421T093101
CREATED:20230510T223255Z
LAST-MODIFIED:20250812T152624Z
UID:10001594-1890604800-1890691199@vip.sportsengine.com
SUMMARY:Eagles Hockey Youth Registration Deadline
DESCRIPTION:Spark is a 9 hole\, social league organized to be casual and fun\, with a touch of friendly competition. \n 
URL:https://vip.sportsengine.com/athens/event/eagles-hockey-youth-registration-deadline/2029-11-29/
CATEGORIES:Test Category
END:VEVENT
BEGIN:VEVENT
DTSTART;VALUE=DATE:20291130
DTEND;VALUE=DATE:20291201
DTSTAMP:20260421T093101
CREATED:20230510T223255Z
LAST-MODIFIED:20250812T152624Z
UID:10001595-1890691200-1890777599@vip.sportsengine.com
SUMMARY:Eagles Hockey Youth Registration Deadline
DESCRIPTION:Spark is a 9 hole\, social league organized to be casual and fun\, with a touch of friendly competition. \n 
URL:https://vip.sportsengine.com/athens/event/eagles-hockey-youth-registration-deadline/2029-11-30/
CATEGORIES:Test Category
END:VEVENT
BEGIN:VEVENT
DTSTART;VALUE=DATE:20291201
DTEND;VALUE=DATE:20291202
DTSTAMP:20260421T093102
CREATED:20230510T223255Z
LAST-MODIFIED:20250812T152624Z
UID:10001596-1890777600-1890863999@vip.sportsengine.com
SUMMARY:Eagles Hockey Youth Registration Deadline
DESCRIPTION:Spark is a 9 hole\, social league organized to be casual and fun\, with a touch of friendly competition. \n 
URL:https://vip.sportsengine.com/athens/event/eagles-hockey-youth-registration-deadline/2029-12-01/
CATEGORIES:Test Category
END:VEVENT
BEGIN:VEVENT
DTSTART;VALUE=DATE:20291202
DTEND;VALUE=DATE:20291203
DTSTAMP:20260421T093102
CREATED:20230510T223255Z
LAST-MODIFIED:20250812T152624Z
UID:10001597-1890864000-1890950399@vip.sportsengine.com
SUMMARY:Eagles Hockey Youth Registration Deadline
DESCRIPTION:Spark is a 9 hole\, social league organized to be casual and fun\, with a touch of friendly competition. \n 
URL:https://vip.sportsengine.com/athens/event/eagles-hockey-youth-registration-deadline/2029-12-02/
CATEGORIES:Test Category
END:VEVENT
BEGIN:VEVENT
DTSTART;VALUE=DATE:20291203
DTEND;VALUE=DATE:20291204
DTSTAMP:20260421T093102
CREATED:20230510T223255Z
LAST-MODIFIED:20250812T152624Z
UID:10001598-1890950400-1891036799@vip.sportsengine.com
SUMMARY:Eagles Hockey Youth Registration Deadline
DESCRIPTION:Spark is a 9 hole\, social league organized to be casual and fun\, with a touch of friendly competition. \n 
URL:https://vip.sportsengine.com/athens/event/eagles-hockey-youth-registration-deadline/2029-12-03/
CATEGORIES:Test Category
END:VEVENT
BEGIN:VEVENT
DTSTART;VALUE=DATE:20291204
DTEND;VALUE=DATE:20291205
DTSTAMP:20260421T093102
CREATED:20230510T223255Z
LAST-MODIFIED:20250812T152624Z
UID:10001599-1891036800-1891123199@vip.sportsengine.com
SUMMARY:Eagles Hockey Youth Registration Deadline
DESCRIPTION:Spark is a 9 hole\, social league organized to be casual and fun\, with a touch of friendly competition. \n 
URL:https://vip.sportsengine.com/athens/event/eagles-hockey-youth-registration-deadline/2029-12-04/
CATEGORIES:Test Category
END:VEVENT
BEGIN:VEVENT
DTSTART;VALUE=DATE:20291205
DTEND;VALUE=DATE:20291206
DTSTAMP:20260421T093102
CREATED:20230510T223255Z
LAST-MODIFIED:20250812T152624Z
UID:10001600-1891123200-1891209599@vip.sportsengine.com
SUMMARY:Eagles Hockey Youth Registration Deadline
DESCRIPTION:Spark is a 9 hole\, social league organized to be casual and fun\, with a touch of friendly competition. \n 
URL:https://vip.sportsengine.com/athens/event/eagles-hockey-youth-registration-deadline/2029-12-05/
CATEGORIES:Test Category
END:VEVENT
BEGIN:VEVENT
DTSTART;VALUE=DATE:20291206
DTEND;VALUE=DATE:20291207
DTSTAMP:20260421T093102
CREATED:20230510T223255Z
LAST-MODIFIED:20250812T152624Z
UID:10001601-1891209600-1891295999@vip.sportsengine.com
SUMMARY:Eagles Hockey Youth Registration Deadline
DESCRIPTION:Spark is a 9 hole\, social league organized to be casual and fun\, with a touch of friendly competition. \n 
URL:https://vip.sportsengine.com/athens/event/eagles-hockey-youth-registration-deadline/2029-12-06/
CATEGORIES:Test Category
END:VEVENT
BEGIN:VEVENT
DTSTART;VALUE=DATE:20291207
DTEND;VALUE=DATE:20291208
DTSTAMP:20260421T093102
CREATED:20230510T223255Z
LAST-MODIFIED:20250812T152624Z
UID:10001602-1891296000-1891382399@vip.sportsengine.com
SUMMARY:Eagles Hockey Youth Registration Deadline
DESCRIPTION:Spark is a 9 hole\, social league organized to be casual and fun\, with a touch of friendly competition. \n 
URL:https://vip.sportsengine.com/athens/event/eagles-hockey-youth-registration-deadline/2029-12-07/
CATEGORIES:Test Category
END:VEVENT
BEGIN:VEVENT
DTSTART;VALUE=DATE:20291208
DTEND;VALUE=DATE:20291209
DTSTAMP:20260421T093102
CREATED:20230510T223255Z
LAST-MODIFIED:20250812T152624Z
UID:10001603-1891382400-1891468799@vip.sportsengine.com
SUMMARY:Eagles Hockey Youth Registration Deadline
DESCRIPTION:Spark is a 9 hole\, social league organized to be casual and fun\, with a touch of friendly competition. \n 
URL:https://vip.sportsengine.com/athens/event/eagles-hockey-youth-registration-deadline/2029-12-08/
CATEGORIES:Test Category
END:VEVENT
BEGIN:VEVENT
DTSTART;VALUE=DATE:20291209
DTEND;VALUE=DATE:20291210
DTSTAMP:20260421T093102
CREATED:20230510T223255Z
LAST-MODIFIED:20250812T152624Z
UID:10001604-1891468800-1891555199@vip.sportsengine.com
SUMMARY:Eagles Hockey Youth Registration Deadline
DESCRIPTION:Spark is a 9 hole\, social league organized to be casual and fun\, with a touch of friendly competition. \n 
URL:https://vip.sportsengine.com/athens/event/eagles-hockey-youth-registration-deadline/2029-12-09/
CATEGORIES:Test Category
END:VEVENT
BEGIN:VEVENT
DTSTART;VALUE=DATE:20291210
DTEND;VALUE=DATE:20291211
DTSTAMP:20260421T093102
CREATED:20230510T223255Z
LAST-MODIFIED:20250812T152624Z
UID:10001605-1891555200-1891641599@vip.sportsengine.com
SUMMARY:Eagles Hockey Youth Registration Deadline
DESCRIPTION:Spark is a 9 hole\, social league organized to be casual and fun\, with a touch of friendly competition. \n 
URL:https://vip.sportsengine.com/athens/event/eagles-hockey-youth-registration-deadline/2029-12-10/
CATEGORIES:Test Category
END:VEVENT
BEGIN:VEVENT
DTSTART;VALUE=DATE:20291211
DTEND;VALUE=DATE:20291212
DTSTAMP:20260421T093102
CREATED:20230510T223255Z
LAST-MODIFIED:20250812T152624Z
UID:10001606-1891641600-1891727999@vip.sportsengine.com
SUMMARY:Eagles Hockey Youth Registration Deadline
DESCRIPTION:Spark is a 9 hole\, social league organized to be casual and fun\, with a touch of friendly competition. \n 
URL:https://vip.sportsengine.com/athens/event/eagles-hockey-youth-registration-deadline/2029-12-11/
CATEGORIES:Test Category
END:VEVENT
BEGIN:VEVENT
DTSTART;VALUE=DATE:20291212
DTEND;VALUE=DATE:20291213
DTSTAMP:20260421T093102
CREATED:20230510T223255Z
LAST-MODIFIED:20250812T152624Z
UID:10001607-1891728000-1891814399@vip.sportsengine.com
SUMMARY:Eagles Hockey Youth Registration Deadline
DESCRIPTION:Spark is a 9 hole\, social league organized to be casual and fun\, with a touch of friendly competition. \n 
URL:https://vip.sportsengine.com/athens/event/eagles-hockey-youth-registration-deadline/2029-12-12/
CATEGORIES:Test Category
END:VEVENT
BEGIN:VEVENT
DTSTART;VALUE=DATE:20291213
DTEND;VALUE=DATE:20291214
DTSTAMP:20260421T093102
CREATED:20230510T223255Z
LAST-MODIFIED:20250812T152624Z
UID:10001608-1891814400-1891900799@vip.sportsengine.com
SUMMARY:Eagles Hockey Youth Registration Deadline
DESCRIPTION:Spark is a 9 hole\, social league organized to be casual and fun\, with a touch of friendly competition. \n 
URL:https://vip.sportsengine.com/athens/event/eagles-hockey-youth-registration-deadline/2029-12-13/
CATEGORIES:Test Category
END:VEVENT
BEGIN:VEVENT
DTSTART;VALUE=DATE:20291214
DTEND;VALUE=DATE:20291215
DTSTAMP:20260421T093102
CREATED:20230510T223255Z
LAST-MODIFIED:20250812T152624Z
UID:10001609-1891900800-1891987199@vip.sportsengine.com
SUMMARY:Eagles Hockey Youth Registration Deadline
DESCRIPTION:Spark is a 9 hole\, social league organized to be casual and fun\, with a touch of friendly competition. \n 
URL:https://vip.sportsengine.com/athens/event/eagles-hockey-youth-registration-deadline/2029-12-14/
CATEGORIES:Test Category
END:VEVENT
BEGIN:VEVENT
DTSTART;VALUE=DATE:20291215
DTEND;VALUE=DATE:20291216
DTSTAMP:20260421T093102
CREATED:20230510T223255Z
LAST-MODIFIED:20250812T152624Z
UID:10001610-1891987200-1892073599@vip.sportsengine.com
SUMMARY:Eagles Hockey Youth Registration Deadline
DESCRIPTION:Spark is a 9 hole\, social league organized to be casual and fun\, with a touch of friendly competition. \n 
URL:https://vip.sportsengine.com/athens/event/eagles-hockey-youth-registration-deadline/2029-12-15/
CATEGORIES:Test Category
END:VEVENT
BEGIN:VEVENT
DTSTART;VALUE=DATE:20291216
DTEND;VALUE=DATE:20291217
DTSTAMP:20260421T093102
CREATED:20230510T223255Z
LAST-MODIFIED:20250812T152624Z
UID:10001611-1892073600-1892159999@vip.sportsengine.com
SUMMARY:Eagles Hockey Youth Registration Deadline
DESCRIPTION:Spark is a 9 hole\, social league organized to be casual and fun\, with a touch of friendly competition. \n 
URL:https://vip.sportsengine.com/athens/event/eagles-hockey-youth-registration-deadline/2029-12-16/
CATEGORIES:Test Category
END:VEVENT
BEGIN:VEVENT
DTSTART;VALUE=DATE:20291217
DTEND;VALUE=DATE:20291218
DTSTAMP:20260421T093102
CREATED:20230510T223255Z
LAST-MODIFIED:20250812T152624Z
UID:10001612-1892160000-1892246399@vip.sportsengine.com
SUMMARY:Eagles Hockey Youth Registration Deadline
DESCRIPTION:Spark is a 9 hole\, social league organized to be casual and fun\, with a touch of friendly competition. \n 
URL:https://vip.sportsengine.com/athens/event/eagles-hockey-youth-registration-deadline/2029-12-17/
CATEGORIES:Test Category
END:VEVENT
END:VCALENDAR