BEGIN:VCALENDAR
VERSION:2.0
PRODID:-//Athens Demo Site - ECPv6.15.17.1//NONSGML v1.0//EN
CALSCALE:GREGORIAN
METHOD:PUBLISH
X-WR-CALNAME:Athens Demo Site
X-ORIGINAL-URL:https://vip.sportsengine.com/athens
X-WR-CALDESC:Events for Athens Demo Site
REFRESH-INTERVAL;VALUE=DURATION:PT1H
X-Robots-Tag:noindex
X-PUBLISHED-TTL:PT1H
BEGIN:VTIMEZONE
TZID:UTC
BEGIN:STANDARD
TZOFFSETFROM:+0000
TZOFFSETTO:+0000
TZNAME:UTC
DTSTART:20290101T000000
END:STANDARD
END:VTIMEZONE
BEGIN:VEVENT
DTSTART;VALUE=DATE:20300105
DTEND;VALUE=DATE:20300106
DTSTAMP:20260422T021512
CREATED:20230510T223255Z
LAST-MODIFIED:20250812T152624Z
UID:10001631-1893801600-1893887999@vip.sportsengine.com
SUMMARY:Eagles Hockey Youth Registration Deadline
DESCRIPTION:Spark is a 9 hole\, social league organized to be casual and fun\, with a touch of friendly competition. \n 
URL:https://vip.sportsengine.com/athens/event/eagles-hockey-youth-registration-deadline/2030-01-05/
CATEGORIES:Test Category
END:VEVENT
BEGIN:VEVENT
DTSTART;VALUE=DATE:20300106
DTEND;VALUE=DATE:20300107
DTSTAMP:20260422T021512
CREATED:20230510T223255Z
LAST-MODIFIED:20250812T152624Z
UID:10001632-1893888000-1893974399@vip.sportsengine.com
SUMMARY:Eagles Hockey Youth Registration Deadline
DESCRIPTION:Spark is a 9 hole\, social league organized to be casual and fun\, with a touch of friendly competition. \n 
URL:https://vip.sportsengine.com/athens/event/eagles-hockey-youth-registration-deadline/2030-01-06/
CATEGORIES:Test Category
END:VEVENT
BEGIN:VEVENT
DTSTART;VALUE=DATE:20300107
DTEND;VALUE=DATE:20300108
DTSTAMP:20260422T021512
CREATED:20230510T223255Z
LAST-MODIFIED:20250812T152624Z
UID:10001633-1893974400-1894060799@vip.sportsengine.com
SUMMARY:Eagles Hockey Youth Registration Deadline
DESCRIPTION:Spark is a 9 hole\, social league organized to be casual and fun\, with a touch of friendly competition. \n 
URL:https://vip.sportsengine.com/athens/event/eagles-hockey-youth-registration-deadline/2030-01-07/
CATEGORIES:Test Category
END:VEVENT
BEGIN:VEVENT
DTSTART;VALUE=DATE:20300108
DTEND;VALUE=DATE:20300109
DTSTAMP:20260422T021512
CREATED:20230510T223255Z
LAST-MODIFIED:20250812T152624Z
UID:10001634-1894060800-1894147199@vip.sportsengine.com
SUMMARY:Eagles Hockey Youth Registration Deadline
DESCRIPTION:Spark is a 9 hole\, social league organized to be casual and fun\, with a touch of friendly competition. \n 
URL:https://vip.sportsengine.com/athens/event/eagles-hockey-youth-registration-deadline/2030-01-08/
CATEGORIES:Test Category
END:VEVENT
BEGIN:VEVENT
DTSTART;VALUE=DATE:20300109
DTEND;VALUE=DATE:20300110
DTSTAMP:20260422T021512
CREATED:20230510T223255Z
LAST-MODIFIED:20250812T152624Z
UID:10001635-1894147200-1894233599@vip.sportsengine.com
SUMMARY:Eagles Hockey Youth Registration Deadline
DESCRIPTION:Spark is a 9 hole\, social league organized to be casual and fun\, with a touch of friendly competition. \n 
URL:https://vip.sportsengine.com/athens/event/eagles-hockey-youth-registration-deadline/2030-01-09/
CATEGORIES:Test Category
END:VEVENT
BEGIN:VEVENT
DTSTART;VALUE=DATE:20300110
DTEND;VALUE=DATE:20300111
DTSTAMP:20260422T021512
CREATED:20230510T223255Z
LAST-MODIFIED:20250812T152624Z
UID:10001636-1894233600-1894319999@vip.sportsengine.com
SUMMARY:Eagles Hockey Youth Registration Deadline
DESCRIPTION:Spark is a 9 hole\, social league organized to be casual and fun\, with a touch of friendly competition. \n 
URL:https://vip.sportsengine.com/athens/event/eagles-hockey-youth-registration-deadline/2030-01-10/
CATEGORIES:Test Category
END:VEVENT
BEGIN:VEVENT
DTSTART;VALUE=DATE:20300111
DTEND;VALUE=DATE:20300112
DTSTAMP:20260422T021512
CREATED:20230510T223255Z
LAST-MODIFIED:20250812T152624Z
UID:10001637-1894320000-1894406399@vip.sportsengine.com
SUMMARY:Eagles Hockey Youth Registration Deadline
DESCRIPTION:Spark is a 9 hole\, social league organized to be casual and fun\, with a touch of friendly competition. \n 
URL:https://vip.sportsengine.com/athens/event/eagles-hockey-youth-registration-deadline/2030-01-11/
CATEGORIES:Test Category
END:VEVENT
BEGIN:VEVENT
DTSTART;VALUE=DATE:20300112
DTEND;VALUE=DATE:20300113
DTSTAMP:20260422T021512
CREATED:20230510T223255Z
LAST-MODIFIED:20250812T152624Z
UID:10001638-1894406400-1894492799@vip.sportsengine.com
SUMMARY:Eagles Hockey Youth Registration Deadline
DESCRIPTION:Spark is a 9 hole\, social league organized to be casual and fun\, with a touch of friendly competition. \n 
URL:https://vip.sportsengine.com/athens/event/eagles-hockey-youth-registration-deadline/2030-01-12/
CATEGORIES:Test Category
END:VEVENT
BEGIN:VEVENT
DTSTART;VALUE=DATE:20300113
DTEND;VALUE=DATE:20300114
DTSTAMP:20260422T021512
CREATED:20230510T223255Z
LAST-MODIFIED:20250812T152624Z
UID:10001639-1894492800-1894579199@vip.sportsengine.com
SUMMARY:Eagles Hockey Youth Registration Deadline
DESCRIPTION:Spark is a 9 hole\, social league organized to be casual and fun\, with a touch of friendly competition. \n 
URL:https://vip.sportsengine.com/athens/event/eagles-hockey-youth-registration-deadline/2030-01-13/
CATEGORIES:Test Category
END:VEVENT
BEGIN:VEVENT
DTSTART;VALUE=DATE:20300114
DTEND;VALUE=DATE:20300115
DTSTAMP:20260422T021512
CREATED:20230510T223255Z
LAST-MODIFIED:20250812T152624Z
UID:10001640-1894579200-1894665599@vip.sportsengine.com
SUMMARY:Eagles Hockey Youth Registration Deadline
DESCRIPTION:Spark is a 9 hole\, social league organized to be casual and fun\, with a touch of friendly competition. \n 
URL:https://vip.sportsengine.com/athens/event/eagles-hockey-youth-registration-deadline/2030-01-14/
CATEGORIES:Test Category
END:VEVENT
BEGIN:VEVENT
DTSTART;VALUE=DATE:20300115
DTEND;VALUE=DATE:20300116
DTSTAMP:20260422T021512
CREATED:20230510T223255Z
LAST-MODIFIED:20250812T152624Z
UID:10001641-1894665600-1894751999@vip.sportsengine.com
SUMMARY:Eagles Hockey Youth Registration Deadline
DESCRIPTION:Spark is a 9 hole\, social league organized to be casual and fun\, with a touch of friendly competition. \n 
URL:https://vip.sportsengine.com/athens/event/eagles-hockey-youth-registration-deadline/2030-01-15/
CATEGORIES:Test Category
END:VEVENT
BEGIN:VEVENT
DTSTART;VALUE=DATE:20300116
DTEND;VALUE=DATE:20300117
DTSTAMP:20260422T021512
CREATED:20230510T223255Z
LAST-MODIFIED:20250812T152624Z
UID:10001642-1894752000-1894838399@vip.sportsengine.com
SUMMARY:Eagles Hockey Youth Registration Deadline
DESCRIPTION:Spark is a 9 hole\, social league organized to be casual and fun\, with a touch of friendly competition. \n 
URL:https://vip.sportsengine.com/athens/event/eagles-hockey-youth-registration-deadline/2030-01-16/
CATEGORIES:Test Category
END:VEVENT
BEGIN:VEVENT
DTSTART;VALUE=DATE:20300117
DTEND;VALUE=DATE:20300118
DTSTAMP:20260422T021512
CREATED:20230510T223255Z
LAST-MODIFIED:20250812T152624Z
UID:10001643-1894838400-1894924799@vip.sportsengine.com
SUMMARY:Eagles Hockey Youth Registration Deadline
DESCRIPTION:Spark is a 9 hole\, social league organized to be casual and fun\, with a touch of friendly competition. \n 
URL:https://vip.sportsengine.com/athens/event/eagles-hockey-youth-registration-deadline/2030-01-17/
CATEGORIES:Test Category
END:VEVENT
BEGIN:VEVENT
DTSTART;VALUE=DATE:20300118
DTEND;VALUE=DATE:20300119
DTSTAMP:20260422T021512
CREATED:20230510T223255Z
LAST-MODIFIED:20250812T152624Z
UID:10001644-1894924800-1895011199@vip.sportsengine.com
SUMMARY:Eagles Hockey Youth Registration Deadline
DESCRIPTION:Spark is a 9 hole\, social league organized to be casual and fun\, with a touch of friendly competition. \n 
URL:https://vip.sportsengine.com/athens/event/eagles-hockey-youth-registration-deadline/2030-01-18/
CATEGORIES:Test Category
END:VEVENT
BEGIN:VEVENT
DTSTART;VALUE=DATE:20300119
DTEND;VALUE=DATE:20300120
DTSTAMP:20260422T021512
CREATED:20230510T223255Z
LAST-MODIFIED:20250812T152624Z
UID:10001645-1895011200-1895097599@vip.sportsengine.com
SUMMARY:Eagles Hockey Youth Registration Deadline
DESCRIPTION:Spark is a 9 hole\, social league organized to be casual and fun\, with a touch of friendly competition. \n 
URL:https://vip.sportsengine.com/athens/event/eagles-hockey-youth-registration-deadline/2030-01-19/
CATEGORIES:Test Category
END:VEVENT
BEGIN:VEVENT
DTSTART;VALUE=DATE:20300120
DTEND;VALUE=DATE:20300121
DTSTAMP:20260422T021512
CREATED:20230510T223255Z
LAST-MODIFIED:20250812T152624Z
UID:10001646-1895097600-1895183999@vip.sportsengine.com
SUMMARY:Eagles Hockey Youth Registration Deadline
DESCRIPTION:Spark is a 9 hole\, social league organized to be casual and fun\, with a touch of friendly competition. \n 
URL:https://vip.sportsengine.com/athens/event/eagles-hockey-youth-registration-deadline/2030-01-20/
CATEGORIES:Test Category
END:VEVENT
BEGIN:VEVENT
DTSTART;VALUE=DATE:20300121
DTEND;VALUE=DATE:20300122
DTSTAMP:20260422T021512
CREATED:20230510T223255Z
LAST-MODIFIED:20250812T152624Z
UID:10001647-1895184000-1895270399@vip.sportsengine.com
SUMMARY:Eagles Hockey Youth Registration Deadline
DESCRIPTION:Spark is a 9 hole\, social league organized to be casual and fun\, with a touch of friendly competition. \n 
URL:https://vip.sportsengine.com/athens/event/eagles-hockey-youth-registration-deadline/2030-01-21/
CATEGORIES:Test Category
END:VEVENT
BEGIN:VEVENT
DTSTART;VALUE=DATE:20300122
DTEND;VALUE=DATE:20300123
DTSTAMP:20260422T021512
CREATED:20230510T223255Z
LAST-MODIFIED:20250812T152624Z
UID:10001648-1895270400-1895356799@vip.sportsengine.com
SUMMARY:Eagles Hockey Youth Registration Deadline
DESCRIPTION:Spark is a 9 hole\, social league organized to be casual and fun\, with a touch of friendly competition. \n 
URL:https://vip.sportsengine.com/athens/event/eagles-hockey-youth-registration-deadline/2030-01-22/
CATEGORIES:Test Category
END:VEVENT
BEGIN:VEVENT
DTSTART;VALUE=DATE:20300123
DTEND;VALUE=DATE:20300124
DTSTAMP:20260422T021512
CREATED:20230510T223255Z
LAST-MODIFIED:20250812T152624Z
UID:10001649-1895356800-1895443199@vip.sportsengine.com
SUMMARY:Eagles Hockey Youth Registration Deadline
DESCRIPTION:Spark is a 9 hole\, social league organized to be casual and fun\, with a touch of friendly competition. \n 
URL:https://vip.sportsengine.com/athens/event/eagles-hockey-youth-registration-deadline/2030-01-23/
CATEGORIES:Test Category
END:VEVENT
BEGIN:VEVENT
DTSTART;VALUE=DATE:20300124
DTEND;VALUE=DATE:20300125
DTSTAMP:20260422T021512
CREATED:20230510T223255Z
LAST-MODIFIED:20250812T152624Z
UID:10001650-1895443200-1895529599@vip.sportsengine.com
SUMMARY:Eagles Hockey Youth Registration Deadline
DESCRIPTION:Spark is a 9 hole\, social league organized to be casual and fun\, with a touch of friendly competition. \n 
URL:https://vip.sportsengine.com/athens/event/eagles-hockey-youth-registration-deadline/2030-01-24/
CATEGORIES:Test Category
END:VEVENT
BEGIN:VEVENT
DTSTART;VALUE=DATE:20300125
DTEND;VALUE=DATE:20300126
DTSTAMP:20260422T021512
CREATED:20230510T223255Z
LAST-MODIFIED:20250812T152624Z
UID:10001651-1895529600-1895615999@vip.sportsengine.com
SUMMARY:Eagles Hockey Youth Registration Deadline
DESCRIPTION:Spark is a 9 hole\, social league organized to be casual and fun\, with a touch of friendly competition. \n 
URL:https://vip.sportsengine.com/athens/event/eagles-hockey-youth-registration-deadline/2030-01-25/
CATEGORIES:Test Category
END:VEVENT
BEGIN:VEVENT
DTSTART;VALUE=DATE:20300126
DTEND;VALUE=DATE:20300127
DTSTAMP:20260422T021512
CREATED:20230510T223255Z
LAST-MODIFIED:20250812T152624Z
UID:10001652-1895616000-1895702399@vip.sportsengine.com
SUMMARY:Eagles Hockey Youth Registration Deadline
DESCRIPTION:Spark is a 9 hole\, social league organized to be casual and fun\, with a touch of friendly competition. \n 
URL:https://vip.sportsengine.com/athens/event/eagles-hockey-youth-registration-deadline/2030-01-26/
CATEGORIES:Test Category
END:VEVENT
BEGIN:VEVENT
DTSTART;VALUE=DATE:20300127
DTEND;VALUE=DATE:20300128
DTSTAMP:20260422T021512
CREATED:20230510T223255Z
LAST-MODIFIED:20250812T152624Z
UID:10001653-1895702400-1895788799@vip.sportsengine.com
SUMMARY:Eagles Hockey Youth Registration Deadline
DESCRIPTION:Spark is a 9 hole\, social league organized to be casual and fun\, with a touch of friendly competition. \n 
URL:https://vip.sportsengine.com/athens/event/eagles-hockey-youth-registration-deadline/2030-01-27/
CATEGORIES:Test Category
END:VEVENT
BEGIN:VEVENT
DTSTART;VALUE=DATE:20300128
DTEND;VALUE=DATE:20300129
DTSTAMP:20260422T021512
CREATED:20230510T223255Z
LAST-MODIFIED:20250812T152624Z
UID:10001654-1895788800-1895875199@vip.sportsengine.com
SUMMARY:Eagles Hockey Youth Registration Deadline
DESCRIPTION:Spark is a 9 hole\, social league organized to be casual and fun\, with a touch of friendly competition. \n 
URL:https://vip.sportsengine.com/athens/event/eagles-hockey-youth-registration-deadline/2030-01-28/
CATEGORIES:Test Category
END:VEVENT
BEGIN:VEVENT
DTSTART;VALUE=DATE:20300129
DTEND;VALUE=DATE:20300130
DTSTAMP:20260422T021512
CREATED:20230510T223255Z
LAST-MODIFIED:20250812T152624Z
UID:10001655-1895875200-1895961599@vip.sportsengine.com
SUMMARY:Eagles Hockey Youth Registration Deadline
DESCRIPTION:Spark is a 9 hole\, social league organized to be casual and fun\, with a touch of friendly competition. \n 
URL:https://vip.sportsengine.com/athens/event/eagles-hockey-youth-registration-deadline/2030-01-29/
CATEGORIES:Test Category
END:VEVENT
BEGIN:VEVENT
DTSTART;VALUE=DATE:20300130
DTEND;VALUE=DATE:20300131
DTSTAMP:20260422T021512
CREATED:20230510T223255Z
LAST-MODIFIED:20250812T152624Z
UID:10001656-1895961600-1896047999@vip.sportsengine.com
SUMMARY:Eagles Hockey Youth Registration Deadline
DESCRIPTION:Spark is a 9 hole\, social league organized to be casual and fun\, with a touch of friendly competition. \n 
URL:https://vip.sportsengine.com/athens/event/eagles-hockey-youth-registration-deadline/2030-01-30/
CATEGORIES:Test Category
END:VEVENT
BEGIN:VEVENT
DTSTART;VALUE=DATE:20300131
DTEND;VALUE=DATE:20300201
DTSTAMP:20260422T021512
CREATED:20230510T223255Z
LAST-MODIFIED:20250812T152624Z
UID:10001657-1896048000-1896134399@vip.sportsengine.com
SUMMARY:Eagles Hockey Youth Registration Deadline
DESCRIPTION:Spark is a 9 hole\, social league organized to be casual and fun\, with a touch of friendly competition. \n 
URL:https://vip.sportsengine.com/athens/event/eagles-hockey-youth-registration-deadline/2030-01-31/
CATEGORIES:Test Category
END:VEVENT
BEGIN:VEVENT
DTSTART;VALUE=DATE:20300201
DTEND;VALUE=DATE:20300202
DTSTAMP:20260422T021512
CREATED:20230510T223255Z
LAST-MODIFIED:20250812T152624Z
UID:10001658-1896134400-1896220799@vip.sportsengine.com
SUMMARY:Eagles Hockey Youth Registration Deadline
DESCRIPTION:Spark is a 9 hole\, social league organized to be casual and fun\, with a touch of friendly competition. \n 
URL:https://vip.sportsengine.com/athens/event/eagles-hockey-youth-registration-deadline/2030-02-01/
CATEGORIES:Test Category
END:VEVENT
BEGIN:VEVENT
DTSTART;VALUE=DATE:20300202
DTEND;VALUE=DATE:20300203
DTSTAMP:20260422T021512
CREATED:20230510T223255Z
LAST-MODIFIED:20250812T152624Z
UID:10001659-1896220800-1896307199@vip.sportsengine.com
SUMMARY:Eagles Hockey Youth Registration Deadline
DESCRIPTION:Spark is a 9 hole\, social league organized to be casual and fun\, with a touch of friendly competition. \n 
URL:https://vip.sportsengine.com/athens/event/eagles-hockey-youth-registration-deadline/2030-02-02/
CATEGORIES:Test Category
END:VEVENT
BEGIN:VEVENT
DTSTART;VALUE=DATE:20300203
DTEND;VALUE=DATE:20300204
DTSTAMP:20260422T021512
CREATED:20230510T223255Z
LAST-MODIFIED:20250812T152624Z
UID:10001660-1896307200-1896393599@vip.sportsengine.com
SUMMARY:Eagles Hockey Youth Registration Deadline
DESCRIPTION:Spark is a 9 hole\, social league organized to be casual and fun\, with a touch of friendly competition. \n 
URL:https://vip.sportsengine.com/athens/event/eagles-hockey-youth-registration-deadline/2030-02-03/
CATEGORIES:Test Category
END:VEVENT
END:VCALENDAR