BEGIN:VCALENDAR
VERSION:2.0
PRODID:-//Super Club Multi-Location - ECPv6.15.17.1//NONSGML v1.0//EN
CALSCALE:GREGORIAN
METHOD:PUBLISH
X-WR-CALNAME:Super Club Multi-Location
X-ORIGINAL-URL:https://vip.sportsengine.com/da-club-template-10
X-WR-CALDESC:Events for Super Club Multi-Location
REFRESH-INTERVAL;VALUE=DURATION:PT1H
X-Robots-Tag:noindex
X-PUBLISHED-TTL:PT1H
BEGIN:VTIMEZONE
TZID:UTC
BEGIN:STANDARD
TZOFFSETFROM:+0000
TZOFFSETTO:+0000
TZNAME:UTC
DTSTART:20250101T000000
END:STANDARD
END:VTIMEZONE
BEGIN:VEVENT
DTSTART;TZID=UTC:20260420T170000
DTEND;TZID=UTC:20260420T180000
DTSTAMP:20260419T222758
CREATED:20240521T144737Z
LAST-MODIFIED:20240521T144737Z
UID:10000501-1776704400-1776708000@vip.sportsengine.com
SUMMARY:Practice
DESCRIPTION:Please Join us for Practice!
URL:https://vip.sportsengine.com/da-club-template-10/event/practice/2026-04-20/
CATEGORIES:Location Example
END:VEVENT
BEGIN:VEVENT
DTSTART;TZID=UTC:20260421T170000
DTEND;TZID=UTC:20260421T180000
DTSTAMP:20260419T222758
CREATED:20240521T144737Z
LAST-MODIFIED:20240521T144737Z
UID:10000502-1776790800-1776794400@vip.sportsengine.com
SUMMARY:Practice
DESCRIPTION:Please Join us for Practice!
URL:https://vip.sportsengine.com/da-club-template-10/event/practice/2026-04-21/
CATEGORIES:Location Example
END:VEVENT
BEGIN:VEVENT
DTSTART;TZID=UTC:20260422T170000
DTEND;TZID=UTC:20260422T180000
DTSTAMP:20260419T222758
CREATED:20240521T144737Z
LAST-MODIFIED:20240521T144737Z
UID:10000503-1776877200-1776880800@vip.sportsengine.com
SUMMARY:Practice
DESCRIPTION:Please Join us for Practice!
URL:https://vip.sportsengine.com/da-club-template-10/event/practice/2026-04-22/
CATEGORIES:Location Example
END:VEVENT
BEGIN:VEVENT
DTSTART;TZID=UTC:20260423T170000
DTEND;TZID=UTC:20260423T180000
DTSTAMP:20260419T222758
CREATED:20240521T144737Z
LAST-MODIFIED:20240521T144737Z
UID:10000504-1776963600-1776967200@vip.sportsengine.com
SUMMARY:Practice
DESCRIPTION:Please Join us for Practice!
URL:https://vip.sportsengine.com/da-club-template-10/event/practice/2026-04-23/
CATEGORIES:Location Example
END:VEVENT
BEGIN:VEVENT
DTSTART;TZID=UTC:20260424T170000
DTEND;TZID=UTC:20260424T180000
DTSTAMP:20260419T222758
CREATED:20240521T144737Z
LAST-MODIFIED:20240521T144737Z
UID:10000505-1777050000-1777053600@vip.sportsengine.com
SUMMARY:Practice
DESCRIPTION:Please Join us for Practice!
URL:https://vip.sportsengine.com/da-club-template-10/event/practice/2026-04-24/
CATEGORIES:Location Example
END:VEVENT
BEGIN:VEVENT
DTSTART;TZID=UTC:20260427T170000
DTEND;TZID=UTC:20260427T180000
DTSTAMP:20260419T222758
CREATED:20240521T144737Z
LAST-MODIFIED:20240521T144737Z
UID:10000506-1777309200-1777312800@vip.sportsengine.com
SUMMARY:Practice
DESCRIPTION:Please Join us for Practice!
URL:https://vip.sportsengine.com/da-club-template-10/event/practice/2026-04-27/
CATEGORIES:Location Example
END:VEVENT
BEGIN:VEVENT
DTSTART;TZID=UTC:20260428T170000
DTEND;TZID=UTC:20260428T180000
DTSTAMP:20260419T222758
CREATED:20240521T144737Z
LAST-MODIFIED:20240521T144737Z
UID:10000507-1777395600-1777399200@vip.sportsengine.com
SUMMARY:Practice
DESCRIPTION:Please Join us for Practice!
URL:https://vip.sportsengine.com/da-club-template-10/event/practice/2026-04-28/
CATEGORIES:Location Example
END:VEVENT
BEGIN:VEVENT
DTSTART;TZID=UTC:20260429T170000
DTEND;TZID=UTC:20260429T180000
DTSTAMP:20260419T222758
CREATED:20240521T144737Z
LAST-MODIFIED:20240521T144737Z
UID:10000508-1777482000-1777485600@vip.sportsengine.com
SUMMARY:Practice
DESCRIPTION:Please Join us for Practice!
URL:https://vip.sportsengine.com/da-club-template-10/event/practice/2026-04-29/
CATEGORIES:Location Example
END:VEVENT
BEGIN:VEVENT
DTSTART;TZID=UTC:20260430T170000
DTEND;TZID=UTC:20260430T180000
DTSTAMP:20260419T222758
CREATED:20240521T144737Z
LAST-MODIFIED:20240521T144737Z
UID:10000509-1777568400-1777572000@vip.sportsengine.com
SUMMARY:Practice
DESCRIPTION:Please Join us for Practice!
URL:https://vip.sportsengine.com/da-club-template-10/event/practice/2026-04-30/
CATEGORIES:Location Example
END:VEVENT
END:VCALENDAR