BEGIN:VCALENDAR
VERSION:2.0
PRODID:-//Sean Test Site - ECPv6.15.17.1//NONSGML v1.0//EN
CALSCALE:GREGORIAN
METHOD:PUBLISH
X-WR-CALNAME:Sean Test Site
X-ORIGINAL-URL:https://vip.sportsengine.com/sean-test
X-WR-CALDESC:Events for Sean Test Site
REFRESH-INTERVAL;VALUE=DURATION:PT1H
X-Robots-Tag:noindex
X-PUBLISHED-TTL:PT1H
BEGIN:VTIMEZONE
TZID:UTC
BEGIN:STANDARD
TZOFFSETFROM:+0000
TZOFFSETTO:+0000
TZNAME:UTC
DTSTART:20250101T000000
END:STANDARD
END:VTIMEZONE
BEGIN:VEVENT
DTSTART;TZID=UTC:20260901T073000
DTEND;TZID=UTC:20260901T093000
DTSTAMP:20260420T171930
CREATED:20240618T212004Z
LAST-MODIFIED:20250212T172746Z
UID:10000398-1788247800-1788255000@vip.sportsengine.com
SUMMARY:Men's Soccer Practice
DESCRIPTION:
URL:https://vip.sportsengine.com/sean-test/event/mens-soccer-practice/2026-09-01/
CATEGORIES:Practice
ATTACH;FMTTYPE=image/jpeg:https://vip.sportsengine.com/sean-test/wp-content/uploads/sites/95/2023/04/cta_soccer01_3-2ratio.jpg
END:VEVENT
BEGIN:VEVENT
DTSTART;TZID=UTC:20260908T073000
DTEND;TZID=UTC:20260908T093000
DTSTAMP:20260420T171930
CREATED:20240618T212004Z
LAST-MODIFIED:20250212T172746Z
UID:10000399-1788852600-1788859800@vip.sportsengine.com
SUMMARY:Men's Soccer Practice
DESCRIPTION:
URL:https://vip.sportsengine.com/sean-test/event/mens-soccer-practice/2026-09-08/
CATEGORIES:Practice
ATTACH;FMTTYPE=image/jpeg:https://vip.sportsengine.com/sean-test/wp-content/uploads/sites/95/2023/04/cta_soccer01_3-2ratio.jpg
END:VEVENT
BEGIN:VEVENT
DTSTART;TZID=UTC:20260915T073000
DTEND;TZID=UTC:20260915T093000
DTSTAMP:20260420T171930
CREATED:20240618T212004Z
LAST-MODIFIED:20250212T172746Z
UID:10000400-1789457400-1789464600@vip.sportsengine.com
SUMMARY:Men's Soccer Practice
DESCRIPTION:
URL:https://vip.sportsengine.com/sean-test/event/mens-soccer-practice/2026-09-15/
CATEGORIES:Practice
ATTACH;FMTTYPE=image/jpeg:https://vip.sportsengine.com/sean-test/wp-content/uploads/sites/95/2023/04/cta_soccer01_3-2ratio.jpg
END:VEVENT
BEGIN:VEVENT
DTSTART;TZID=UTC:20260922T073000
DTEND;TZID=UTC:20260922T093000
DTSTAMP:20260420T171930
CREATED:20240618T212004Z
LAST-MODIFIED:20250212T172746Z
UID:10000401-1790062200-1790069400@vip.sportsengine.com
SUMMARY:Men's Soccer Practice
DESCRIPTION:
URL:https://vip.sportsengine.com/sean-test/event/mens-soccer-practice/2026-09-22/
CATEGORIES:Practice
ATTACH;FMTTYPE=image/jpeg:https://vip.sportsengine.com/sean-test/wp-content/uploads/sites/95/2023/04/cta_soccer01_3-2ratio.jpg
END:VEVENT
BEGIN:VEVENT
DTSTART;TZID=UTC:20260929T073000
DTEND;TZID=UTC:20260929T093000
DTSTAMP:20260420T171930
CREATED:20240618T212004Z
LAST-MODIFIED:20250212T172746Z
UID:10000402-1790667000-1790674200@vip.sportsengine.com
SUMMARY:Men's Soccer Practice
DESCRIPTION:
URL:https://vip.sportsengine.com/sean-test/event/mens-soccer-practice/2026-09-29/
CATEGORIES:Practice
ATTACH;FMTTYPE=image/jpeg:https://vip.sportsengine.com/sean-test/wp-content/uploads/sites/95/2023/04/cta_soccer01_3-2ratio.jpg
END:VEVENT
END:VCALENDAR